BEGIN:VCALENDAR
VERSION:2.0
PRODID:-//Aaroha - Giving Wings Association - ECPv6.3.7//NONSGML v1.0//EN
CALSCALE:GREGORIAN
METHOD:PUBLISH
X-WR-CALNAME:Aaroha - Giving Wings Association
X-ORIGINAL-URL:https://www.aarohagivingwings.org
X-WR-CALDESC:Events for Aaroha - Giving Wings Association
REFRESH-INTERVAL;VALUE=DURATION:PT1H
X-Robots-Tag:noindex
X-PUBLISHED-TTL:PT1H
BEGIN:VTIMEZONE
TZID:UTC
BEGIN:STANDARD
TZOFFSETFROM:+0000
TZOFFSETTO:+0000
TZNAME:UTC
DTSTART:20220101T000000
END:STANDARD
END:VTIMEZONE
BEGIN:VEVENT
DTSTART;VALUE=DATE:20221225
DTEND;VALUE=DATE:20221226
DTSTAMP:20260423T201116
CREATED:20171201T080000Z
LAST-MODIFIED:20231003T140048Z
UID:13770-1671926400-1672012799@www.aarohagivingwings.org
SUMMARY:Secret Santa 2022
DESCRIPTION:Cras dapibus ullamcorper dictum. Vivamus nec erat placerat felis scelerisque porttitor in ac turpis. In nec imperdiet turpis. Suspendisse quis orci ut orci pulvinar eleifend. Nulla eu mattis ipsum. Integer eget sagittis nulla.Praesent consectetur lacus et maximus eleifend. Integer non lacus dui. Mauris tortor diam\, laoreet quis commodo vitae\, sodales vel augue.
URL:https://www.aarohagivingwings.org/event/secret-santa-2022/
LOCATION:mumbai
CATEGORIES:Charity,Children,Faith
ATTACH;FMTTYPE=image/jpeg:https://www.aarohagivingwings.org/wp-content/uploads/2015/10/05.jpg
END:VEVENT
END:VCALENDAR